BEGIN:VCALENDAR
VERSION:2.0
PRODID:-//eZPublish//EN
METHOD:REQUEST
BEGIN:VEVENT
UID:1033@apa.org.ar
DTSTART:20190627T220000Z
DTEND:20190627T233000Z
DTSTAMP:20190605T184008Z
URL:https://www.apa.org.ar/Eventos/La-pareja-y-el-colecho
SUMMARY:“La pareja y el colecho”
LOCATION:APA, Rodríguez Peña 1674, CABA (C1021ABJ), Argen
tina
END:VEVENT
END:VCALENDAR