BEGIN:VCALENDAR
VERSION:2.0
PRODID:-//eZPublish//EN
METHOD:REQUEST
BEGIN:VEVENT
UID:1149@apa.org.ar
DTSTART:20111118T190000Z
DTEND:20111118T210000Z
DTSTAMP:20150706T181352Z
URL:https://www.apa.org.ar/Eventos/Algunos-conceptos-de-la-Teoria-del-Apego-y-su-aplicacion-clinica
SUMMARY:Algunos conceptos de la Teoría del Apego y su apl
icación clínica
LOCATION:APA, Rodríguez Peña 1674, CABA (C1021ABJ), Argen
tina
END:VEVENT
END:VCALENDAR