BEGIN:VCALENDAR
VERSION:2.0
PRODID:-//eZPublish//EN
METHOD:REQUEST
BEGIN:VEVENT
UID:1182@apa.org.ar
DTSTART:20191025T183000Z
DTEND:20191025T190000Z
DTSTAMP:20191009T133101Z
URL:https://www.apa.org.ar/Eventos/Palabras-de-bienvenida-Auditorio-Mom
SUMMARY:Palabras de bienvenida, Auditorio Mom
LOCATION:APA, Rodríguez Peña 1674, CABA (C1021ABJ), Argen
tina
END:VEVENT
END:VCALENDAR