BEGIN:VCALENDAR
VERSION:2.0
PRODID:-//eZPublish//EN
METHOD:REQUEST
BEGIN:VEVENT
UID:1273@apa.org.ar
DTSTART:20191101T143000Z
DTEND:20191101T160000Z
DTSTAMP:20190912T212753Z
URL:https://www.apa.org.ar/Eventos/Dialogos-de-borde-lo-queer
SUMMARY:Diálogos de borde: lo queer
LOCATION:APA, Rodríguez Peña 1674, CABA (C1021ABJ), Argen
tina
END:VEVENT
END:VCALENDAR