BEGIN:VCALENDAR
VERSION:2.0
PRODID:-//eZPublish//EN
METHOD:REQUEST
BEGIN:VEVENT
UID:1316@apa.org.ar
DTSTART:20071117T160000Z
DTEND:20071117T174500Z
DTSTAMP:20150702T162851Z
URL:https://www.apa.org.ar/Eventos/Panel-de-cierre-Pluralidades-teoricas-y-practicas-clinicas
SUMMARY:Panel de cierre: Pluralidades teóricas y práctic
as clínicas
LOCATION:Universidad de Belgrano, Zabala 1837, CABA, Argent
ina
END:VEVENT
END:VCALENDAR