BEGIN:VCALENDAR
VERSION:2.0
PRODID:-//eZPublish//EN
METHOD:REQUEST
BEGIN:VEVENT
UID:1374@apa.org.ar
DTSTART:20051111T190000Z
DTEND:20051111T203000Z
DTSTAMP:20151223T142410Z
URL:https://www.apa.org.ar/Eventos/El-deseo-del-analista-como-productor-de-la-eficacia-del-dispositivo-analitico
SUMMARY:El deseo del analista como productor de la eficaci
a del dispositivo analítico.
LOCATION:Universidad de Belgrano, Zabala 1837, CABA, Argent
ina
END:VEVENT
END:VCALENDAR