BEGIN:VCALENDAR
VERSION:2.0
PRODID:-//eZPublish//EN
METHOD:REQUEST
BEGIN:VEVENT
UID:1513@apa.org.ar
DTSTART:20190510T210000Z
DTEND:20190510T214000Z
DTSTAMP:20190119T225500Z
URL:https://www.apa.org.ar/Eventos/Panel-gene-environment-interaction-in-depression
SUMMARY:Panel: gene-environment interaction in depression
LOCATION:APA, Rodríguez Peña 1674, CABA (C1021ABJ), Argen
tina
END:VEVENT
END:VCALENDAR