BEGIN:VCALENDAR
VERSION:2.0
PRODID:-//eZPublish//EN
METHOD:REQUEST
BEGIN:VEVENT
UID:1599@apa.org.ar
DTSTART:20200417
DTEND:20200418
DTSTAMP:20200304T120450Z
URL:https://www.apa.org.ar/Eventos/El-lugar-del-otro
SUMMARY:El lugar del otro
LOCATION:APA, Rodríguez Peña 1674, CABA (C1021ABJ), Argen
tina
END:VEVENT
END:VCALENDAR