BEGIN:VCALENDAR
VERSION:2.0
PRODID:-//eZPublish//EN
METHOD:REQUEST
BEGIN:VEVENT
UID:1605@apa.org.ar
DTSTART:20140930T160000Z
DTEND:20140930T173000Z
DTSTAMP:20140904T004235Z
URL:https://www.apa.org.ar/Eventos/Paciente-con-deficit-en-las-percepciones-interoceptivas
SUMMARY:Paciente con déficit en las percepciones interoce
ptivas
LOCATION:APA, Rodríguez Peña 1674, CABA (C1021ABJ), Argen
tina
END:VEVENT
END:VCALENDAR