BEGIN:VCALENDAR
VERSION:2.0
PRODID:-//eZPublish//EN
METHOD:REQUEST
BEGIN:VEVENT
UID:1621@apa.org.ar
DTSTART:20021123T120000Z
DTEND:20021123T143000Z
DTSTAMP:20160511T174959Z
URL:https://www.apa.org.ar/Eventos/Foro-13-Foro-del-Departamento-de-Historia-Si-y-no-a-la-historia-en-el-psicoanalisis-actual
SUMMARY:Foro 13: Foro del Departamento de Historia: “Sí
 y no a la historia en el psicoanálisis actual”
LOCATION:APA, Rodríguez Peña 1674, CABA (C1021ABJ), Argen
tina
END:VEVENT
END:VCALENDAR