BEGIN:VCALENDAR
VERSION:2.0
PRODID:-//eZPublish//EN
METHOD:REQUEST
BEGIN:VEVENT
UID:1832@apa.org.ar
DTSTART:20190512T143000Z
DTEND:20190512T152000Z
DTSTAMP:20190121T122725Z
URL:https://www.apa.org.ar/Eventos/Panel-Mechanisms-of-Change-in-Psychoanalytic-Treatment-of-Depression
SUMMARY:Panel:  Mechanisms of Change in Psychoanalytic Tre
atment of Depression
LOCATION:APA, Rodríguez Peña 1674, CABA (C1021ABJ), Argen
tina
END:VEVENT
END:VCALENDAR