BEGIN:VCALENDAR
VERSION:2.0
PRODID:-//eZPublish//EN
METHOD:REQUEST
BEGIN:VEVENT
UID:1900@apa.org.ar
DTSTART:19841027
DTEND:19841027
DTSTAMP:20160404T181633Z
URL:https://www.apa.org.ar/Eventos/XIII-Congreso-Interno-y-XXIII-Simposio-El-material-clinico
SUMMARY:XIII Congreso Interno y XXIII Simposio: “El mate
rial clínico”
LOCATION:APA, Rodríguez Peña 1674, CABA (C1021ABJ), Argen
tina
END:VEVENT
END:VCALENDAR