BEGIN:VCALENDAR
VERSION:2.0
PRODID:-//eZPublish//EN
METHOD:REQUEST
BEGIN:VEVENT
UID:1944@apa.org.ar
DTSTART:20021122T223000Z
DTEND:20021123T003000Z
DTSTAMP:20160511T175026Z
URL:https://www.apa.org.ar/Eventos/La-realidad-como-traumatica-La-traumatica-realidad
SUMMARY:“La realidad como traumática – La traumática
 realidad”
LOCATION:APA, Rodríguez Peña 1674, CABA (C1021ABJ), Argen
tina
END:VEVENT
END:VCALENDAR