BEGIN:VCALENDAR
VERSION:2.0
PRODID:-//eZPublish//EN
METHOD:REQUEST
BEGIN:VEVENT
UID:4264@apa.org.ar
DTSTART:20200707T160000Z
DTEND:20200707T173000Z
DTSTAMP:20200703T211734Z
URL:https://www.apa.org.ar/Eventos/El-aislamiento-social-obligatorio-como-defensa
SUMMARY:El aislamiento social obligatorio como defensa
LOCATION:
END:VEVENT
END:VCALENDAR