BEGIN:VCALENDAR
VERSION:2.0
PRODID:-//eZPublish//EN
METHOD:REQUEST
BEGIN:VEVENT
UID:4282@apa.org.ar
DTSTART:20200721T173000Z
DTEND:20200721T190000Z
DTSTAMP:20200708T181125Z
URL:https://www.apa.org.ar/Eventos/Pandemia-y-Golem
SUMMARY:“Pandemia y Golem"
LOCATION:
END:VEVENT
END:VCALENDAR