BEGIN:VCALENDAR
VERSION:2.0
PRODID:-//eZPublish//EN
METHOD:REQUEST
BEGIN:VEVENT
UID:4411@apa.org.ar
DTSTART:20200922T140000Z
DTEND:20200922T153000Z
DTSTAMP:20200820T182025Z
URL:https://www.apa.org.ar/Eventos/Territorios-sin-fronteras-de-la-clinica.-El-caso-Katharina-de-Freud
SUMMARY:Territorios sin fronteras de la clínica. El caso 
Katharina de Freud
LOCATION:
END:VEVENT
END:VCALENDAR