BEGIN:VCALENDAR
VERSION:2.0
PRODID:-//eZPublish//EN
METHOD:REQUEST
BEGIN:VEVENT
UID:4421@apa.org.ar
DTSTART:20200908T160000Z
DTEND:20200908T173000Z
DTSTAMP:20200821T175336Z
URL:https://www.apa.org.ar/Eventos/Ciclo-Leyendo-con-los-autores8
SUMMARY:Ciclo: Leyendo con los autores
LOCATION:
END:VEVENT
END:VCALENDAR