BEGIN:VCALENDAR
VERSION:2.0
PRODID:-//eZPublish//EN
METHOD:REQUEST
BEGIN:VEVENT
UID:4881@apa.org.ar
DTSTART:20210505T130000Z
DTEND:20210505T143000Z
DTSTAMP:20210412T143143Z
URL:https://www.apa.org.ar/Eventos/La-clinica-de-los-bordes
SUMMARY:"La clínica de los bordes"
LOCATION:
END:VEVENT
END:VCALENDAR