BEGIN:VCALENDAR
VERSION:2.0
PRODID:-//eZPublish//EN
METHOD:REQUEST
BEGIN:VEVENT
UID:5459@apa.org.ar
DTSTART:20211027T233000Z
DTEND:20211028T010000Z
DTSTAMP:20210927T215231Z
URL:https://www.apa.org.ar/Eventos/Los-autores-dialogan-con-los-lectores3
SUMMARY:“Los autores dialogan con los lectores”
LOCATION:
END:VEVENT
END:VCALENDAR