BEGIN:VCALENDAR
VERSION:2.0
PRODID:-//eZPublish//EN
METHOD:REQUEST
BEGIN:VEVENT
UID:5599@apa.org.ar
DTSTART:20211204T123000Z
DTEND:20211204T183000Z
DTSTAMP:20211126T145552Z
URL:https://www.apa.org.ar/Eventos/JORNADAS-DE-LECTURA-DE-MONOGRAFIAS
SUMMARY:JORNADAS DE LECTURA DE MONOGRAFÍAS
LOCATION:
END:VEVENT
END:VCALENDAR