BEGIN:VCALENDAR
VERSION:2.0
PRODID:-//eZPublish//EN
METHOD:REQUEST
BEGIN:VEVENT
UID:5970@apa.org.ar
DTSTART:20220621T173000Z
DTEND:20220621T190000Z
DTSTAMP:20220526T131658Z
URL:https://www.apa.org.ar/Eventos/Aportes-tecnicos-de-la-interpretacion-psicoanalitica-de-los-mitos
SUMMARY:Aportes tÃ©cnicos de la interpretaciÃ³n psicoanalÃ
­tica de los mitos
LOCATION:
END:VEVENT
END:VCALENDAR