BEGIN:VCALENDAR
VERSION:2.0
PRODID:-//eZPublish//EN
METHOD:REQUEST
BEGIN:VEVENT
UID:6258@apa.org.ar
DTSTART:20221004T120000Z
DTEND:20221004T133000Z
DTSTAMP:20220923T175203Z
URL:https://www.apa.org.ar/Eventos/Interrogar-nos-sobre-las-multiples-sexualidades.-La-mirada-psicoanalitica
SUMMARY:Interrogar (nos) sobre las múltiples sexualidades
. La mirada psicoanalítica
LOCATION:
END:VEVENT
END:VCALENDAR