BEGIN:VCALENDAR
VERSION:2.0
PRODID:-//eZPublish//EN
METHOD:REQUEST
BEGIN:VEVENT
UID:6675@apa.org.ar
DTSTART:20230530T160000Z
DTEND:20230530T173000Z
DTSTAMP:20230427T154319Z
URL:https://www.apa.org.ar/Eventos/Un-encuentro-imposible-Habria-visto-Freud-a-Hitler
SUMMARY:Un encuentro imposible: ¿Habría visto Freud a Hi
tler?
LOCATION:
END:VEVENT
END:VCALENDAR