BEGIN:VCALENDAR
VERSION:2.0
PRODID:-//eZPublish//EN
METHOD:REQUEST
BEGIN:VEVENT
UID:681@apa.org.ar
DTSTART:20051111T170000Z
DTEND:20051111T183000Z
DTSTAMP:20151223T031014Z
URL:https://www.apa.org.ar/Eventos/Transferencia-contratransferencia-en-adultos-mayores
SUMMARY:Transferencia, contratransferencia en adultos mayo
res
LOCATION:Universidad de Belgrano, Zabala 1837, CABA, Argent
ina
END:VEVENT
END:VCALENDAR