BEGIN:VCALENDAR
VERSION:2.0
PRODID:-//eZPublish//EN
METHOD:REQUEST
BEGIN:VEVENT
UID:6924@apa.org.ar
DTSTART:20230822T140000Z
DTEND:20230822T153000Z
DTSTAMP:20230809T143331Z
URL:https://www.apa.org.ar/Eventos/Diferencia-y-diversidades.-Maternidades
SUMMARY:Diferencia y diversidades. Maternidades
LOCATION:
END:VEVENT
END:VCALENDAR