BEGIN:VCALENDAR
VERSION:2.0
PRODID:-//eZPublish//EN
METHOD:REQUEST
BEGIN:VEVENT
UID:6998@apa.org.ar
DTSTART:20230921T233000Z
DTEND:20230922T010000Z
DTSTAMP:20230830T124630Z
URL:https://www.apa.org.ar/Eventos/Como-trabaja-el-psicoanalisis-frente-a-los-desafios-actuales-La-actualidad-en-psicoanalisis3
SUMMARY:¿Cómo trabaja el psicoanálisis frente a los des
afíos actuales? La actualidad en psicoanálisis.
LOCATION:
END:VEVENT
END:VCALENDAR