BEGIN:VCALENDAR
VERSION:2.0
PRODID:-//eZPublish//EN
METHOD:REQUEST
BEGIN:VEVENT
UID:7412@apa.org.ar
DTSTART:20240426T173000Z
DTEND:20240426T190000Z
DTSTAMP:20240404T141528Z
URL:https://www.apa.org.ar/Eventos/Todos-somos-Queer-Trans-formaciones
SUMMARY:Todos somos Queer “Trans-formaciones”.
LOCATION:
END:VEVENT
END:VCALENDAR