BEGIN:VCALENDAR
VERSION:2.0
PRODID:-//eZPublish//EN
METHOD:REQUEST
BEGIN:VEVENT
UID:7515@apa.org.ar
DTSTART:20240514T160000Z
DTEND:20240514T173000Z
DTSTAMP:20240508T132531Z
URL:https://www.apa.org.ar/Eventos/Ateneo-clinico10
SUMMARY:Ateneo clínico
LOCATION:
END:VEVENT
END:VCALENDAR