BEGIN:VCALENDAR
VERSION:2.0
PRODID:-//eZPublish//EN
METHOD:REQUEST
BEGIN:VEVENT
UID:8267@apa.org.ar
DTSTART:20250325T140000Z
DTEND:20250325T153000Z
DTSTAMP:20250318T175734Z
URL:https://www.apa.org.ar/Eventos/Dia-de-la-memoria-por-la-verdad-y-la-justicia
SUMMARY:Día de la memoria por la verdad y la justicia
LOCATION:
END:VEVENT
END:VCALENDAR