BEGIN:VCALENDAR
VERSION:2.0
PRODID:-//eZPublish//EN
METHOD:REQUEST
BEGIN:VEVENT
UID:8467@apa.org.ar
DTSTART:20250704T173000Z
DTEND:20250704T190000Z
DTSTAMP:20250609T142807Z
URL:https://www.apa.org.ar/Eventos/La-persona-deprimida-el-analista-y-el-suicidio-fallido
SUMMARY:La persona deprimida: el analista y el suicidio fa
llido
LOCATION:
END:VEVENT
END:VCALENDAR