BEGIN:VCALENDAR
VERSION:2.0
PRODID:-//eZPublish//EN
METHOD:REQUEST
BEGIN:VEVENT
UID:8477@apa.org.ar
DTSTART:20250618T140000Z
DTEND:20250618T153000Z
DTSTAMP:20250609T164816Z
URL:https://www.apa.org.ar/Eventos/Acercando-Lazos.-Comision-de-Hospitales.-Hospital-Rivadavia
SUMMARY:Acercando Lazos. Comisión de Hospitales. Hospital
 Rivadavia
LOCATION:Hospital Bernardino Rivadavia, Avenida Las Heras 2
670, CABA, Argentina
END:VEVENT
END:VCALENDAR