BEGIN:VCALENDAR
VERSION:2.0
PRODID:-//eZPublish//EN
METHOD:REQUEST
BEGIN:VEVENT
UID:8507@apa.org.ar
DTSTART:20250715T114500Z
DTEND:20250715T120000Z
DTSTAMP:20250625T162431Z
URL:https://www.apa.org.ar/Eventos/Jornada-de-monografias13
SUMMARY:Jornada de monografías
LOCATION:
END:VEVENT
END:VCALENDAR