BEGIN:VCALENDAR
VERSION:2.0
PRODID:-//eZPublish//EN
METHOD:REQUEST
BEGIN:VEVENT
UID:8514@apa.org.ar
DTSTART:20250715T160000Z
DTEND:20250715T173000Z
DTSTAMP:20250625T174052Z
URL:https://www.apa.org.ar/Eventos/Jornada-de-Monografias16
SUMMARY:Jornada de Monografías
LOCATION:
END:VEVENT
END:VCALENDAR