BEGIN:VCALENDAR
VERSION:2.0
PRODID:-//eZPublish//EN
METHOD:REQUEST
BEGIN:VEVENT
UID:8516@apa.org.ar
DTSTART:20250703T223000Z
DTEND:20250704T000000Z
DTSTAMP:20250625T181804Z
URL:https://www.apa.org.ar/Eventos/Desafios-en-la-clinica-psicoanalitica
SUMMARY:“Desafíos en la clínica psicoanalítica"
LOCATION:
END:VEVENT
END:VCALENDAR