BEGIN:VCALENDAR
VERSION:2.0
PRODID:-//eZPublish//EN
METHOD:REQUEST
BEGIN:VEVENT
UID:8532@apa.org.ar
DTSTART:20250714T120000Z
DTEND:20250714T133000Z
DTSTAMP:20250630T150857Z
URL:https://www.apa.org.ar/Eventos/Acercando-lazos5
SUMMARY:Acercando lazos
LOCATION:
END:VEVENT
END:VCALENDAR