BEGIN:VCALENDAR
VERSION:2.0
PRODID:-//eZPublish//EN
METHOD:REQUEST
BEGIN:VEVENT
UID:8533@apa.org.ar
DTSTART:20250716T130000Z
DTEND:20250716T143000Z
DTSTAMP:20250630T152307Z
URL:https://www.apa.org.ar/Eventos/Acercando-Lazos6
SUMMARY:Acercando Lazos
LOCATION:Hospital Bernardino Rivadavia, Avenida Las Heras 2
670, CABA, Argentina
END:VEVENT
END:VCALENDAR