BEGIN:VCALENDAR
VERSION:2.0
PRODID:-//eZPublish//EN
METHOD:REQUEST
BEGIN:VEVENT
UID:8562@apa.org.ar
DTSTART:20251003T200000Z
DTEND:20251004T162000Z
DTSTAMP:20250715T175146Z
URL:https://www.apa.org.ar/Eventos/Jornada-APA-APSA
SUMMARY:Jornada APA - APSA
LOCATION:
END:VEVENT
END:VCALENDAR