BEGIN:VCALENDAR
VERSION:2.0
PRODID:-//eZPublish//EN
METHOD:REQUEST
BEGIN:VEVENT
UID:8614@apa.org.ar
DTSTART:20251007T120000Z
DTEND:20251007T140000Z
DTSTAMP:20250814T175641Z
URL:https://www.apa.org.ar/Eventos/Unidad-psicosomatica-y-su-complejidad
SUMMARY:“Unidad psicosomática y su complejidad”
LOCATION:
END:VEVENT
END:VCALENDAR