BEGIN:VCALENDAR
VERSION:2.0
PRODID:-//eZPublish//EN
METHOD:REQUEST
BEGIN:VEVENT
UID:8642@apa.org.ar
DTSTART:20250908T120000Z
DTEND:20250908T133000Z
DTSTAMP:20250827T172854Z
URL:https://www.apa.org.ar/Eventos/Acercando-Lazos7
SUMMARY:Acercando Lazos
LOCATION:
END:VEVENT
END:VCALENDAR