BEGIN:VCALENDAR
VERSION:2.0
PRODID:-//eZPublish//EN
METHOD:REQUEST
BEGIN:VEVENT
UID:8650@apa.org.ar
DTSTART:20250909T160000Z
DTEND:20250909T173000Z
DTSTAMP:20250903T153424Z
URL:https://www.apa.org.ar/Eventos/La-adolescencia-heroica.-El-fanatismo-normal-del-adolescente
SUMMARY:La adolescencia heroica. El fanatismo "normal" del
 adolescente
LOCATION:
END:VEVENT
END:VCALENDAR