BEGIN:VCALENDAR
VERSION:2.0
PRODID:-//eZPublish//EN
METHOD:REQUEST
BEGIN:VEVENT
UID:8651@apa.org.ar
DTSTART:20250909T160000Z
DTEND:20250909T173000Z
DTSTAMP:20250903T153910Z
URL:https://www.apa.org.ar/Eventos/Conferencia-Magistral-Prejuicios-y-transicionalidad-en-el-campo-de-la-Psicosomatica
SUMMARY:Conferencia Magistral: "Prejuicios y transicionali
dad en el campo de la Psicosomática"
LOCATION:
END:VEVENT
END:VCALENDAR