BEGIN:VCALENDAR
VERSION:2.0
PRODID:-//eZPublish//EN
METHOD:REQUEST
BEGIN:VEVENT
UID:8707@apa.org.ar
DTSTART:20251016T230000Z
DTEND:20251017T003000Z
DTSTAMP:20250923T132354Z
URL:https://www.apa.org.ar/Eventos/De-likeos-ghosteos-stalkeos.-Metalenguaje-de-los-vinculos-en-las-redes
SUMMARY:De likeos, ghosteos, stalkeos. Metalenguaje de los
 vínculos en las redes
LOCATION:
END:VEVENT
END:VCALENDAR