BEGIN:VCALENDAR
VERSION:2.0
PRODID:-//eZPublish//EN
METHOD:REQUEST
BEGIN:VEVENT
UID:8708@apa.org.ar
DTSTART:20251017T173000Z
DTEND:20251017T190000Z
DTSTAMP:20250923T160036Z
URL:https://www.apa.org.ar/Eventos/Cuando-el-alma-canta
SUMMARY:Cuando el alma canta
LOCATION:
END:VEVENT
END:VCALENDAR