BEGIN:VCALENDAR
VERSION:2.0
PRODID:-//eZPublish//EN
METHOD:REQUEST
BEGIN:VEVENT
UID:8734@apa.org.ar
DTSTART:20251007T160000Z
DTEND:20251007T173000Z
DTSTAMP:20251001T164321Z
URL:https://www.apa.org.ar/Eventos/Encuentro-Teorico-Clinico3
SUMMARY:Encuentro Teórico Clínico
LOCATION:
END:VEVENT
END:VCALENDAR