BEGIN:VCALENDAR
VERSION:2.0
PRODID:-//eZPublish//EN
METHOD:REQUEST
BEGIN:VEVENT
UID:8738@apa.org.ar
DTSTART:20251008T120000Z
DTEND:20251008T133000Z
DTSTAMP:20251002T145656Z
URL:https://www.apa.org.ar/Eventos/Acercando-Lazos9
SUMMARY:"Acercando Lazos"
LOCATION:
END:VEVENT
END:VCALENDAR