BEGIN:VCALENDAR
VERSION:2.0
PRODID:-//eZPublish//EN
METHOD:REQUEST
BEGIN:VEVENT
UID:8739@apa.org.ar
DTSTART:20251008T120000Z
DTEND:20251008T133000Z
DTSTAMP:20251002T150532Z
URL:https://www.apa.org.ar/Eventos/Acercando-lazos-en-tarea-de-Supervision
SUMMARY:Acercando lazos en tarea de Supervisión
LOCATION:
END:VEVENT
END:VCALENDAR