BEGIN:VCALENDAR
VERSION:2.0
PRODID:-//eZPublish//EN
METHOD:REQUEST
BEGIN:VEVENT
UID:8754@apa.org.ar
DTSTART:20251018T193000Z
DTEND:20251018T210000Z
DTSTAMP:20251008T150335Z
URL:https://www.apa.org.ar/Eventos/Psicoanalisis-y-diferencia
SUMMARY:Psicoanálisis y diferencia
LOCATION:
END:VEVENT
END:VCALENDAR