BEGIN:VCALENDAR
VERSION:2.0
PRODID:-//eZPublish//EN
METHOD:REQUEST
BEGIN:VEVENT
UID:8770@apa.org.ar
DTSTART:20251021T160000Z
DTEND:20251021T173000Z
DTSTAMP:20251014T153620Z
URL:https://www.apa.org.ar/Eventos/El-sueno-como-escena-intersubjetiva-en-el-psicoanalisis-de-familia-y-pareja
SUMMARY:El sueño como escena intersubjetiva en el psicoan
álisis de familia y pareja
LOCATION:
END:VEVENT
END:VCALENDAR