BEGIN:VCALENDAR
VERSION:2.0
PRODID:-//eZPublish//EN
METHOD:REQUEST
BEGIN:VEVENT
UID:8783@apa.org.ar
DTSTART:20251028T160000Z
DTEND:20251028T173000Z
DTSTAMP:20251023T143442Z
URL:https://www.apa.org.ar/Eventos/ATENEO-CLINICO16
SUMMARY:ATENEO CLÍNICO
LOCATION:
END:VEVENT
END:VCALENDAR