BEGIN:VCALENDAR
VERSION:2.0
PRODID:-//eZPublish//EN
METHOD:REQUEST
BEGIN:VEVENT
UID:884@apa.org.ar
DTSTART:20191030T120000Z
DTEND:20191030T150000Z
DTSTAMP:20190719T001112Z
URL:https://www.apa.org.ar/Eventos/Supervisiones-con-candidatos-de-APA-APdeBA-y-SAP
SUMMARY:Supervisiones con candidatos de APA – APdeBA y S
AP
LOCATION:SAP, Virrey Olaguer y Feliú 2462 8ª, Buenos Aire
s (C1426EBB), Ciudad Autónoma de Buenos Aires, Ar
gentina
END:VEVENT
END:VCALENDAR